BEGIN:VCALENDAR
VERSION:2.0
PRODID:-//ChamberMaster//Event Calendar 2.0//EN
METHOD:PUBLISH
X-PUBLISHED-TTL:P3D
REFRESH-INTERVAL:P3D
CALSCALE:GREGORIAN
BEGIN:VEVENT
DTSTART:20260423T140000Z
DTEND:20260423T200000Z
X-MICROSOFT-CDO-ALLDAYEVENT:FALSE
SUMMARY:Historic Trade Demonstration: Redware Pottery with RIck Hamelin
DESCRIPTION:Join us for redware pottery demonstration with Rick Hamelin.\n\n \n\nAdmission will be free\, courtesy of the Highland Street Foundation.
X-ALT-DESC;FMTTYPE=text/html:<div class="xdj266r x14z9mp xat24cr x1lziwak x1vvkbs"><span class="x193iq5w xeuugli x13faqbe x1vvkbs x1xmvt09 x1lliihq x1s928wv xhkezso x1gmr53x x1cpjm7i x1fgarty x1943h6x xudqn12 x3x7a5m x6prxxf xvq8zen xo1l8bm xzsf02u" dir="auto">Join us for redware pottery demonstration&nbsp\;with Rick Hamelin.</span><br />\n&nbsp\;</div>\n\n<div class="x14z9mp xat24cr x1lziwak x1vvkbs xtlvy1s"><span class="x193iq5w xeuugli x13faqbe x1vvkbs x1xmvt09 x1lliihq x1s928wv xhkezso x1gmr53x x1cpjm7i x1fgarty x1943h6x xudqn12 x3x7a5m x6prxxf xvq8zen xo1l8bm xzsf02u" dir="auto">Admission will be free\, courtesy of the Highland Street Foundation.</span></div>\n
LOCATION:Historic Deerfield\, Apprentice's Workshop at Dwight House 80 Old Main Street\, Deerfield
UID:e.2182.29048
SEQUENCE:3
DTSTAMP:20260422T180559Z
URL:http://business.franklincc.org/events/details/historic-trade-demonstration-redware-pottery-with-rick-hamelin-29048
END:VEVENT

END:VCALENDAR
